BEGIN:VCALENDAR
PRODID:http://www.kufer.de/kuferweb / DE
VERSION:2.0
METHOD:PUBLISH
CALSCALE:GREGORIAN
X-WR-TIMEZONE:Europe/Berlin
BEGIN:VTIMEZONE
TZID:Europe/Berlin
X-LIC-LOCATION:Europe/Berlin
BEGIN:DAYLIGHT
TZOFFSETFROM:+0100
TZOFFSETTO:+0200
TZNAME:CEST
DTSTART;TZID=Europe/Berlin:19700329T020000
RRULE:FREQ=YEARLY;INTERVAL=1;BYDAY=-1SU;BYMONTH=3
END:DAYLIGHT
BEGIN:STANDARD
TZOFFSETFROM:+0200
TZOFFSETTO:+0100
TZNAME:CET
DTSTART;TZID=Europe/Berlin:19701025T030000
RRULE:FREQ=YEARLY;INTERVAL=1;BYDAY=-1SU;BYMONTH=10
END:STANDARD
END:VTIMEZONE
BEGIN:VEVENT
DTSTAMP:20260425T220129
DTSTART;TZID=Europe/Berlin:20260205T173000
DTEND;TZID=Europe/Berlin:20260205T190000
UID:261WZ8331-20260205T173000@VHSDUISBURG
SUMMARY:Spanisch - A1 - Con gusto Nuevo A1 - ab Lektion 9 (261WZ8331) 
LOCATION:VHS Arndtstraße;Raum11, Arndtstraße, 47226 Duisburg
END:VEVENT
BEGIN:VEVENT
DTSTAMP:20260425T220129
DTSTART;TZID=Europe/Berlin:20260212T173000
DTEND;TZID=Europe/Berlin:20260212T190000
UID:261WZ8331-20260212T173000@VHSDUISBURG
SUMMARY:Spanisch - A1 - Con gusto Nuevo A1 - ab Lektion 9 (261WZ8331) 
LOCATION:VHS Arndtstraße;Raum11, Arndtstraße, 47226 Duisburg
END:VEVENT
BEGIN:VEVENT
DTSTAMP:20260425T220129
DTSTART;TZID=Europe/Berlin:20260219T173000
DTEND;TZID=Europe/Berlin:20260219T190000
UID:261WZ8331-20260219T173000@VHSDUISBURG
SUMMARY:Spanisch - A1 - Con gusto Nuevo A1 - ab Lektion 9 (261WZ8331) 
LOCATION:VHS Arndtstraße;Raum11, Arndtstraße, 47226 Duisburg
END:VEVENT
BEGIN:VEVENT
DTSTAMP:20260425T220129
DTSTART;TZID=Europe/Berlin:20260226T173000
DTEND;TZID=Europe/Berlin:20260226T190000
UID:261WZ8331-20260226T173000@VHSDUISBURG
SUMMARY:Spanisch - A1 - Con gusto Nuevo A1 - ab Lektion 9 (261WZ8331) 
LOCATION:VHS Arndtstraße;Raum11, Arndtstraße, 47226 Duisburg
END:VEVENT
BEGIN:VEVENT
DTSTAMP:20260425T220129
DTSTART;TZID=Europe/Berlin:20260305T173000
DTEND;TZID=Europe/Berlin:20260305T190000
UID:261WZ8331-20260305T173000@VHSDUISBURG
SUMMARY:Spanisch - A1 - Con gusto Nuevo A1 - ab Lektion 9 (261WZ8331) 
LOCATION:VHS Arndtstraße;Raum11, Arndtstraße, 47226 Duisburg
END:VEVENT
BEGIN:VEVENT
DTSTAMP:20260425T220129
DTSTART;TZID=Europe/Berlin:20260312T173000
DTEND;TZID=Europe/Berlin:20260312T190000
UID:261WZ8331-20260312T173000@VHSDUISBURG
SUMMARY:Spanisch - A1 - Con gusto Nuevo A1 - ab Lektion 9 (261WZ8331) 
LOCATION:VHS Arndtstraße;Raum11, Arndtstraße, 47226 Duisburg
END:VEVENT
BEGIN:VEVENT
DTSTAMP:20260425T220129
DTSTART;TZID=Europe/Berlin:20260319T173000
DTEND;TZID=Europe/Berlin:20260319T190000
UID:261WZ8331-20260319T173000@VHSDUISBURG
SUMMARY:Spanisch - A1 - Con gusto Nuevo A1 - ab Lektion 9 (261WZ8331) 
LOCATION:VHS Arndtstraße;Raum11, Arndtstraße, 47226 Duisburg
END:VEVENT
BEGIN:VEVENT
DTSTAMP:20260425T220129
DTSTART;TZID=Europe/Berlin:20260326T173000
DTEND;TZID=Europe/Berlin:20260326T190000
UID:261WZ8331-20260326T173000@VHSDUISBURG
SUMMARY:Spanisch - A1 - Con gusto Nuevo A1 - ab Lektion 9 (261WZ8331) 
LOCATION:VHS Arndtstraße;Raum11, Arndtstraße, 47226 Duisburg
END:VEVENT
BEGIN:VEVENT
DTSTAMP:20260425T220129
DTSTART;TZID=Europe/Berlin:20260416T173000
DTEND;TZID=Europe/Berlin:20260416T190000
UID:261WZ8331-20260416T173000@VHSDUISBURG
SUMMARY:Spanisch - A1 - Con gusto Nuevo A1 - ab Lektion 9 (261WZ8331) 
LOCATION:VHS Arndtstraße;Raum11, Arndtstraße, 47226 Duisburg
END:VEVENT
BEGIN:VEVENT
DTSTAMP:20260425T220129
DTSTART;TZID=Europe/Berlin:20260422T173000
DTEND;TZID=Europe/Berlin:20260422T190000
UID:261WZ8331-20260422T173000@VHSDUISBURG
SUMMARY:Spanisch - A1 - Con gusto Nuevo A1 - ab Lektion 9 (261WZ8331) 
LOCATION:VHS Arndtstraße;Raum12, Arndtstraße, 47226 Duisburg
END:VEVENT
END:VCALENDAR