BEGIN:VCALENDAR
PRODID:http://www.kufer.de/kuferweb / DE
VERSION:2.0
METHOD:PUBLISH
CALSCALE:GREGORIAN
X-WR-TIMEZONE:Europe/Berlin
BEGIN:VTIMEZONE
TZID:Europe/Berlin
X-LIC-LOCATION:Europe/Berlin
BEGIN:DAYLIGHT
TZOFFSETFROM:+0100
TZOFFSETTO:+0200
TZNAME:CEST
DTSTART;TZID=Europe/Berlin:19700329T020000
RRULE:FREQ=YEARLY;INTERVAL=1;BYDAY=-1SU;BYMONTH=3
END:DAYLIGHT
BEGIN:STANDARD
TZOFFSETFROM:+0200
TZOFFSETTO:+0100
TZNAME:CET
DTSTART;TZID=Europe/Berlin:19701025T030000
RRULE:FREQ=YEARLY;INTERVAL=1;BYDAY=-1SU;BYMONTH=10
END:STANDARD
END:VTIMEZONE
BEGIN:VEVENT
DTSTAMP:20260421T152611
DTSTART;TZID=Europe/Berlin:20260202T093000
DTEND;TZID=Europe/Berlin:20260202T110000
UID:261SZ7507-20260202T093000@VHSDUISBURG
SUMMARY:Englisch - B1/B2 Conversation - intermediate/ upper-intermediate (261SZ7507) 
LOCATION:Bezirksamt Duisburg Süd;Raum1, Sittardsberger Allee 14, 47249 Duisburg
END:VEVENT
BEGIN:VEVENT
DTSTAMP:20260421T152611
DTSTART;TZID=Europe/Berlin:20260209T093000
DTEND;TZID=Europe/Berlin:20260209T110000
UID:261SZ7507-20260209T093000@VHSDUISBURG
SUMMARY:Englisch - B1/B2 Conversation - intermediate/ upper-intermediate (261SZ7507) 
LOCATION:Bezirksamt Duisburg Süd;Raum1, Sittardsberger Allee 14, 47249 Duisburg
END:VEVENT
BEGIN:VEVENT
DTSTAMP:20260421T152611
DTSTART;TZID=Europe/Berlin:20260223T093000
DTEND;TZID=Europe/Berlin:20260223T110000
UID:261SZ7507-20260223T093000@VHSDUISBURG
SUMMARY:Englisch - B1/B2 Conversation - intermediate/ upper-intermediate (261SZ7507) 
LOCATION:Bezirksamt Duisburg Süd;Raum1, Sittardsberger Allee 14, 47249 Duisburg
END:VEVENT
BEGIN:VEVENT
DTSTAMP:20260421T152611
DTSTART;TZID=Europe/Berlin:20260302T093000
DTEND;TZID=Europe/Berlin:20260302T110000
UID:261SZ7507-20260302T093000@VHSDUISBURG
SUMMARY:Englisch - B1/B2 Conversation - intermediate/ upper-intermediate (261SZ7507) 
LOCATION:Bezirksamt Duisburg Süd;Raum1, Sittardsberger Allee 14, 47249 Duisburg
END:VEVENT
BEGIN:VEVENT
DTSTAMP:20260421T152611
DTSTART;TZID=Europe/Berlin:20260309T093000
DTEND;TZID=Europe/Berlin:20260309T110000
UID:261SZ7507-20260309T093000@VHSDUISBURG
SUMMARY:Englisch - B1/B2 Conversation - intermediate/ upper-intermediate (261SZ7507) 
LOCATION:Bezirksamt Duisburg Süd;Raum1, Sittardsberger Allee 14, 47249 Duisburg
END:VEVENT
BEGIN:VEVENT
DTSTAMP:20260421T152611
DTSTART;TZID=Europe/Berlin:20260323T093000
DTEND;TZID=Europe/Berlin:20260323T110000
UID:261SZ7507-20260323T093000@VHSDUISBURG
SUMMARY:Englisch - B1/B2 Conversation - intermediate/ upper-intermediate (261SZ7507) 
LOCATION:Bezirksamt Duisburg Süd;Raum1, Sittardsberger Allee 14, 47249 Duisburg
END:VEVENT
BEGIN:VEVENT
DTSTAMP:20260421T152611
DTSTART;TZID=Europe/Berlin:20260413T093000
DTEND;TZID=Europe/Berlin:20260413T110000
UID:261SZ7507-20260413T093000@VHSDUISBURG
SUMMARY:Englisch - B1/B2 Conversation - intermediate/ upper-intermediate (261SZ7507) 
LOCATION:Bezirksamt Duisburg Süd;Raum1, Sittardsberger Allee 14, 47249 Duisburg
END:VEVENT
BEGIN:VEVENT
DTSTAMP:20260421T152611
DTSTART;TZID=Europe/Berlin:20260420T093000
DTEND;TZID=Europe/Berlin:20260420T110000
UID:261SZ7507-20260420T093000@VHSDUISBURG
SUMMARY:Englisch - B1/B2 Conversation - intermediate/ upper-intermediate (261SZ7507) 
LOCATION:Bezirksamt Duisburg Süd;Raum1, Sittardsberger Allee 14, 47249 Duisburg
END:VEVENT
BEGIN:VEVENT
DTSTAMP:20260421T152611
DTSTART;TZID=Europe/Berlin:20260427T093000
DTEND;TZID=Europe/Berlin:20260427T110000
UID:261SZ7507-20260427T093000@VHSDUISBURG
SUMMARY:Englisch - B1/B2 Conversation - intermediate/ upper-intermediate (261SZ7507) 
LOCATION:Bezirksamt Duisburg Süd;Raum1, Sittardsberger Allee 14, 47249 Duisburg
END:VEVENT
BEGIN:VEVENT
DTSTAMP:20260421T152611
DTSTART;TZID=Europe/Berlin:20260504T093000
DTEND;TZID=Europe/Berlin:20260504T110000
UID:261SZ7507-20260504T093000@VHSDUISBURG
SUMMARY:Englisch - B1/B2 Conversation - intermediate/ upper-intermediate (261SZ7507) 
LOCATION:Bezirksamt Duisburg Süd;Raum1, Sittardsberger Allee 14, 47249 Duisburg
END:VEVENT
BEGIN:VEVENT
DTSTAMP:20260421T152611
DTSTART;TZID=Europe/Berlin:20260511T093000
DTEND;TZID=Europe/Berlin:20260511T110000
UID:261SZ7507-20260511T093000@VHSDUISBURG
SUMMARY:Englisch - B1/B2 Conversation - intermediate/ upper-intermediate (261SZ7507) 
LOCATION:Bezirksamt Duisburg Süd;Raum1, Sittardsberger Allee 14, 47249 Duisburg
END:VEVENT
BEGIN:VEVENT
DTSTAMP:20260421T152611
DTSTART;TZID=Europe/Berlin:20260518T093000
DTEND;TZID=Europe/Berlin:20260518T110000
UID:261SZ7507-20260518T093000@VHSDUISBURG
SUMMARY:Englisch - B1/B2 Conversation - intermediate/ upper-intermediate (261SZ7507) 
LOCATION:Bezirksamt Duisburg Süd;Raum1, Sittardsberger Allee 14, 47249 Duisburg
END:VEVENT
BEGIN:VEVENT
DTSTAMP:20260421T152611
DTSTART;TZID=Europe/Berlin:20260601T093000
DTEND;TZID=Europe/Berlin:20260601T110000
UID:261SZ7507-20260601T093000@VHSDUISBURG
DESCRIPTION:NT 16.03.
SUMMARY:Englisch - B1/B2 Conversation - intermediate/ upper-intermediate (261SZ7507) 
LOCATION:Bezirksamt Duisburg Süd;Raum1, Sittardsberger Allee 14, 47249 Duisburg
END:VEVENT
END:VCALENDAR