BEGIN:VCALENDAR
PRODID:http://www.kufer.de/kuferweb / DE
VERSION:2.0
METHOD:PUBLISH
CALSCALE:GREGORIAN
X-WR-TIMEZONE:Europe/Berlin
BEGIN:VTIMEZONE
TZID:Europe/Berlin
X-LIC-LOCATION:Europe/Berlin
BEGIN:DAYLIGHT
TZOFFSETFROM:+0100
TZOFFSETTO:+0200
TZNAME:CEST
DTSTART;TZID=Europe/Berlin:19700329T020000
RRULE:FREQ=YEARLY;INTERVAL=1;BYDAY=-1SU;BYMONTH=3
END:DAYLIGHT
BEGIN:STANDARD
TZOFFSETFROM:+0200
TZOFFSETTO:+0100
TZNAME:CET
DTSTART;TZID=Europe/Berlin:19701025T030000
RRULE:FREQ=YEARLY;INTERVAL=1;BYDAY=-1SU;BYMONTH=10
END:STANDARD
END:VTIMEZONE
BEGIN:VEVENT
DTSTAMP:20260421T135930
DTSTART;TZID=Europe/Berlin:20260205T171500
DTEND;TZID=Europe/Berlin:20260205T184500
UID:261MZ8678-20260205T171500@VHSDUISBURG
SUMMARY:Niederländisch - A2 - Wat leuk! - ab Lektion 1 (261MZ8678) 
LOCATION:VHS im Stadtfenster;Raum315, Steinsche Gasse 26, 47051 Duisburg
END:VEVENT
BEGIN:VEVENT
DTSTAMP:20260421T135930
DTSTART;TZID=Europe/Berlin:20260212T171500
DTEND;TZID=Europe/Berlin:20260212T184500
UID:261MZ8678-20260212T171500@VHSDUISBURG
SUMMARY:Niederländisch - A2 - Wat leuk! - ab Lektion 1 (261MZ8678) 
LOCATION:VHS im Stadtfenster;Raum315, Steinsche Gasse 26, 47051 Duisburg
END:VEVENT
BEGIN:VEVENT
DTSTAMP:20260421T135930
DTSTART;TZID=Europe/Berlin:20260219T171500
DTEND;TZID=Europe/Berlin:20260219T184500
UID:261MZ8678-20260219T171500@VHSDUISBURG
SUMMARY:Niederländisch - A2 - Wat leuk! - ab Lektion 1 (261MZ8678) 
LOCATION:VHS im Stadtfenster;Raum315, Steinsche Gasse 26, 47051 Duisburg
END:VEVENT
BEGIN:VEVENT
DTSTAMP:20260421T135930
DTSTART;TZID=Europe/Berlin:20260226T171500
DTEND;TZID=Europe/Berlin:20260226T184500
UID:261MZ8678-20260226T171500@VHSDUISBURG
SUMMARY:Niederländisch - A2 - Wat leuk! - ab Lektion 1 (261MZ8678) 
LOCATION:VHS im Stadtfenster;Raum315, Steinsche Gasse 26, 47051 Duisburg
END:VEVENT
BEGIN:VEVENT
DTSTAMP:20260421T135930
DTSTART;TZID=Europe/Berlin:20260305T171500
DTEND;TZID=Europe/Berlin:20260305T184500
UID:261MZ8678-20260305T171500@VHSDUISBURG
SUMMARY:Niederländisch - A2 - Wat leuk! - ab Lektion 1 (261MZ8678) 
LOCATION:VHS im Stadtfenster;Raum315, Steinsche Gasse 26, 47051 Duisburg
END:VEVENT
BEGIN:VEVENT
DTSTAMP:20260421T135930
DTSTART;TZID=Europe/Berlin:20260312T171500
DTEND;TZID=Europe/Berlin:20260312T184500
UID:261MZ8678-20260312T171500@VHSDUISBURG
SUMMARY:Niederländisch - A2 - Wat leuk! - ab Lektion 1 (261MZ8678) 
LOCATION:VHS im Stadtfenster;Raum315, Steinsche Gasse 26, 47051 Duisburg
END:VEVENT
BEGIN:VEVENT
DTSTAMP:20260421T135930
DTSTART;TZID=Europe/Berlin:20260319T171500
DTEND;TZID=Europe/Berlin:20260319T184500
UID:261MZ8678-20260319T171500@VHSDUISBURG
SUMMARY:Niederländisch - A2 - Wat leuk! - ab Lektion 1 (261MZ8678) 
LOCATION:VHS im Stadtfenster;Raum315, Steinsche Gasse 26, 47051 Duisburg
END:VEVENT
BEGIN:VEVENT
DTSTAMP:20260421T135930
DTSTART;TZID=Europe/Berlin:20260326T171500
DTEND;TZID=Europe/Berlin:20260326T184500
UID:261MZ8678-20260326T171500@VHSDUISBURG
SUMMARY:Niederländisch - A2 - Wat leuk! - ab Lektion 1 (261MZ8678) 
LOCATION:VHS im Stadtfenster;Raum315, Steinsche Gasse 26, 47051 Duisburg
END:VEVENT
BEGIN:VEVENT
DTSTAMP:20260421T135930
DTSTART;TZID=Europe/Berlin:20260416T171500
DTEND;TZID=Europe/Berlin:20260416T184500
UID:261MZ8678-20260416T171500@VHSDUISBURG
SUMMARY:Niederländisch - A2 - Wat leuk! - ab Lektion 1 (261MZ8678) 
LOCATION:VHS im Stadtfenster;Raum315, Steinsche Gasse 26, 47051 Duisburg
END:VEVENT
BEGIN:VEVENT
DTSTAMP:20260421T135930
DTSTART;TZID=Europe/Berlin:20260423T171500
DTEND;TZID=Europe/Berlin:20260423T184500
UID:261MZ8678-20260423T171500@VHSDUISBURG
SUMMARY:Niederländisch - A2 - Wat leuk! - ab Lektion 1 (261MZ8678) 
LOCATION:VHS im Stadtfenster;Raum315, Steinsche Gasse 26, 47051 Duisburg
END:VEVENT
BEGIN:VEVENT
DTSTAMP:20260421T135930
DTSTART;TZID=Europe/Berlin:20260430T171500
DTEND;TZID=Europe/Berlin:20260430T184500
UID:261MZ8678-20260430T171500@VHSDUISBURG
SUMMARY:Niederländisch - A2 - Wat leuk! - ab Lektion 1 (261MZ8678) 
LOCATION:VHS im Stadtfenster;Raum315, Steinsche Gasse 26, 47051 Duisburg
END:VEVENT
BEGIN:VEVENT
DTSTAMP:20260421T135930
DTSTART;TZID=Europe/Berlin:20260507T171500
DTEND;TZID=Europe/Berlin:20260507T184500
UID:261MZ8678-20260507T171500@VHSDUISBURG
SUMMARY:Niederländisch - A2 - Wat leuk! - ab Lektion 1 (261MZ8678) 
LOCATION:VHS im Stadtfenster;Raum315, Steinsche Gasse 26, 47051 Duisburg
END:VEVENT
BEGIN:VEVENT
DTSTAMP:20260421T135930
DTSTART;TZID=Europe/Berlin:20260521T171500
DTEND;TZID=Europe/Berlin:20260521T184500
UID:261MZ8678-20260521T171500@VHSDUISBURG
SUMMARY:Niederländisch - A2 - Wat leuk! - ab Lektion 1 (261MZ8678) 
LOCATION:VHS im Stadtfenster;Raum315, Steinsche Gasse 26, 47051 Duisburg
END:VEVENT
END:VCALENDAR