BEGIN:VCALENDAR
PRODID:http://www.kufer.de/kuferweb / DE
VERSION:2.0
METHOD:PUBLISH
CALSCALE:GREGORIAN
X-WR-TIMEZONE:Europe/Berlin
BEGIN:VTIMEZONE
TZID:Europe/Berlin
X-LIC-LOCATION:Europe/Berlin
BEGIN:DAYLIGHT
TZOFFSETFROM:+0100
TZOFFSETTO:+0200
TZNAME:CEST
DTSTART;TZID=Europe/Berlin:19700329T020000
RRULE:FREQ=YEARLY;INTERVAL=1;BYDAY=-1SU;BYMONTH=3
END:DAYLIGHT
BEGIN:STANDARD
TZOFFSETFROM:+0200
TZOFFSETTO:+0100
TZNAME:CET
DTSTART;TZID=Europe/Berlin:19701025T030000
RRULE:FREQ=YEARLY;INTERVAL=1;BYDAY=-1SU;BYMONTH=10
END:STANDARD
END:VTIMEZONE
BEGIN:VEVENT
DTSTAMP:20260420T162236
DTSTART;TZID=Europe/Berlin:20260603T191500
DTEND;TZID=Europe/Berlin:20260603T204500
UID:261MZ8603A-20260603T191500@VHSDUISBURG
SUMMARY:Ägyptisches Arabisch - A1 ab Lektion 7 (261MZ8603A) 
LOCATION:VHS Cloud;VHS Cloud, , 
END:VEVENT
BEGIN:VEVENT
DTSTAMP:20260420T162236
DTSTART;TZID=Europe/Berlin:20260610T191500
DTEND;TZID=Europe/Berlin:20260610T204500
UID:261MZ8603A-20260610T191500@VHSDUISBURG
SUMMARY:Ägyptisches Arabisch - A1 ab Lektion 7 (261MZ8603A) 
LOCATION:VHS Cloud;VHS Cloud, , 
END:VEVENT
BEGIN:VEVENT
DTSTAMP:20260420T162236
DTSTART;TZID=Europe/Berlin:20260617T191500
DTEND;TZID=Europe/Berlin:20260617T204500
UID:261MZ8603A-20260617T191500@VHSDUISBURG
SUMMARY:Ägyptisches Arabisch - A1 ab Lektion 7 (261MZ8603A) 
LOCATION:VHS Cloud;VHS Cloud, , 
END:VEVENT
BEGIN:VEVENT
DTSTAMP:20260420T162236
DTSTART;TZID=Europe/Berlin:20260624T191500
DTEND;TZID=Europe/Berlin:20260624T204500
UID:261MZ8603A-20260624T191500@VHSDUISBURG
SUMMARY:Ägyptisches Arabisch - A1 ab Lektion 7 (261MZ8603A) 
LOCATION:VHS Cloud;VHS Cloud, , 
END:VEVENT
END:VCALENDAR