BEGIN:VCALENDAR
PRODID:http://www.kufer.de/kuferweb / DE
VERSION:2.0
METHOD:PUBLISH
CALSCALE:GREGORIAN
X-WR-TIMEZONE:Europe/Berlin
BEGIN:VTIMEZONE
TZID:Europe/Berlin
X-LIC-LOCATION:Europe/Berlin
BEGIN:DAYLIGHT
TZOFFSETFROM:+0100
TZOFFSETTO:+0200
TZNAME:CEST
DTSTART;TZID=Europe/Berlin:19700329T020000
RRULE:FREQ=YEARLY;INTERVAL=1;BYDAY=-1SU;BYMONTH=3
END:DAYLIGHT
BEGIN:STANDARD
TZOFFSETFROM:+0200
TZOFFSETTO:+0100
TZNAME:CET
DTSTART;TZID=Europe/Berlin:19701025T030000
RRULE:FREQ=YEARLY;INTERVAL=1;BYDAY=-1SU;BYMONTH=10
END:STANDARD
END:VTIMEZONE
BEGIN:VEVENT
DTSTAMP:20260425T193434
DTSTART;TZID=Europe/Berlin:20260206T183000
DTEND;TZID=Europe/Berlin:20260206T210000
UID:261MZ8375-20260206T183000@VHSDUISBURG
SUMMARY:Spanisch - B2 - Curso Intensivo (261MZ8375) 
LOCATION:VHS im Stadtfenster;Raum221, Steinsche Gasse 26, 47051 Duisburg
END:VEVENT
BEGIN:VEVENT
DTSTAMP:20260425T193434
DTSTART;TZID=Europe/Berlin:20260213T183000
DTEND;TZID=Europe/Berlin:20260213T210000
UID:261MZ8375-20260213T183000@VHSDUISBURG
SUMMARY:Spanisch - B2 - Curso Intensivo (261MZ8375) 
LOCATION:VHS im Stadtfenster;Raum221, Steinsche Gasse 26, 47051 Duisburg
END:VEVENT
BEGIN:VEVENT
DTSTAMP:20260425T193434
DTSTART;TZID=Europe/Berlin:20260220T183000
DTEND;TZID=Europe/Berlin:20260220T210000
UID:261MZ8375-20260220T183000@VHSDUISBURG
SUMMARY:Spanisch - B2 - Curso Intensivo (261MZ8375) 
LOCATION:VHS im Stadtfenster;Raum221, Steinsche Gasse 26, 47051 Duisburg
END:VEVENT
BEGIN:VEVENT
DTSTAMP:20260425T193434
DTSTART;TZID=Europe/Berlin:20260221T100000
DTEND;TZID=Europe/Berlin:20260221T160000
UID:261MZ8375-20260221T100000@VHSDUISBURG
SUMMARY:Spanisch - B2 - Curso Intensivo (261MZ8375) 
LOCATION:Online-Seminar;Onlineraum, , 
END:VEVENT
BEGIN:VEVENT
DTSTAMP:20260425T193434
DTSTART;TZID=Europe/Berlin:20260227T183000
DTEND;TZID=Europe/Berlin:20260227T210000
UID:261MZ8375-20260227T183000@VHSDUISBURG
SUMMARY:Spanisch - B2 - Curso Intensivo (261MZ8375) 
LOCATION:VHS im Stadtfenster;Raum221, Steinsche Gasse 26, 47051 Duisburg
END:VEVENT
BEGIN:VEVENT
DTSTAMP:20260425T193434
DTSTART;TZID=Europe/Berlin:20260306T183000
DTEND;TZID=Europe/Berlin:20260306T210000
UID:261MZ8375-20260306T183000@VHSDUISBURG
SUMMARY:Spanisch - B2 - Curso Intensivo (261MZ8375) 
LOCATION:VHS im Stadtfenster;Raum221, Steinsche Gasse 26, 47051 Duisburg
END:VEVENT
BEGIN:VEVENT
DTSTAMP:20260425T193434
DTSTART;TZID=Europe/Berlin:20260313T183000
DTEND;TZID=Europe/Berlin:20260313T210000
UID:261MZ8375-20260313T183000@VHSDUISBURG
SUMMARY:Spanisch - B2 - Curso Intensivo (261MZ8375) 
LOCATION:VHS im Stadtfenster;Raum221, Steinsche Gasse 26, 47051 Duisburg
END:VEVENT
BEGIN:VEVENT
DTSTAMP:20260425T193434
DTSTART;TZID=Europe/Berlin:20260320T183000
DTEND;TZID=Europe/Berlin:20260320T210000
UID:261MZ8375-20260320T183000@VHSDUISBURG
SUMMARY:Spanisch - B2 - Curso Intensivo (261MZ8375) 
LOCATION:VHS im Stadtfenster;Raum221, Steinsche Gasse 26, 47051 Duisburg
END:VEVENT
BEGIN:VEVENT
DTSTAMP:20260425T193434
DTSTART;TZID=Europe/Berlin:20260321T100000
DTEND;TZID=Europe/Berlin:20260321T160000
UID:261MZ8375-20260321T100000@VHSDUISBURG
SUMMARY:Spanisch - B2 - Curso Intensivo (261MZ8375) 
LOCATION:Online-Seminar;Onlineraum, , 
END:VEVENT
BEGIN:VEVENT
DTSTAMP:20260425T193434
DTSTART;TZID=Europe/Berlin:20260327T183000
DTEND;TZID=Europe/Berlin:20260327T210000
UID:261MZ8375-20260327T183000@VHSDUISBURG
SUMMARY:Spanisch - B2 - Curso Intensivo (261MZ8375) 
LOCATION:VHS im Stadtfenster;Raum221, Steinsche Gasse 26, 47051 Duisburg
END:VEVENT
BEGIN:VEVENT
DTSTAMP:20260425T193434
DTSTART;TZID=Europe/Berlin:20260417T183000
DTEND;TZID=Europe/Berlin:20260417T210000
UID:261MZ8375-20260417T183000@VHSDUISBURG
SUMMARY:Spanisch - B2 - Curso Intensivo (261MZ8375) 
LOCATION:VHS im Stadtfenster;Raum221, Steinsche Gasse 26, 47051 Duisburg
END:VEVENT
BEGIN:VEVENT
DTSTAMP:20260425T193434
DTSTART;TZID=Europe/Berlin:20260418T100000
DTEND;TZID=Europe/Berlin:20260418T160000
UID:261MZ8375-20260418T100000@VHSDUISBURG
SUMMARY:Spanisch - B2 - Curso Intensivo (261MZ8375) 
LOCATION:Online-Seminar;Onlineraum, , 
END:VEVENT
BEGIN:VEVENT
DTSTAMP:20260425T193434
DTSTART;TZID=Europe/Berlin:20260424T183000
DTEND;TZID=Europe/Berlin:20260424T210000
UID:261MZ8375-20260424T183000@VHSDUISBURG
SUMMARY:Spanisch - B2 - Curso Intensivo (261MZ8375) 
LOCATION:VHS im Stadtfenster;Raum221, Steinsche Gasse 26, 47051 Duisburg
END:VEVENT
BEGIN:VEVENT
DTSTAMP:20260425T193434
DTSTART;TZID=Europe/Berlin:20260508T183000
DTEND;TZID=Europe/Berlin:20260508T210000
UID:261MZ8375-20260508T183000@VHSDUISBURG
SUMMARY:Spanisch - B2 - Curso Intensivo (261MZ8375) 
LOCATION:VHS im Stadtfenster;Raum221, Steinsche Gasse 26, 47051 Duisburg
END:VEVENT
BEGIN:VEVENT
DTSTAMP:20260425T193434
DTSTART;TZID=Europe/Berlin:20260515T183000
DTEND;TZID=Europe/Berlin:20260515T210000
UID:261MZ8375-20260515T183000@VHSDUISBURG
SUMMARY:Spanisch - B2 - Curso Intensivo (261MZ8375) 
LOCATION:VHS im Stadtfenster;Raum221, Steinsche Gasse 26, 47051 Duisburg
END:VEVENT
BEGIN:VEVENT
DTSTAMP:20260425T193434
DTSTART;TZID=Europe/Berlin:20260522T183000
DTEND;TZID=Europe/Berlin:20260522T210000
UID:261MZ8375-20260522T183000@VHSDUISBURG
SUMMARY:Spanisch - B2 - Curso Intensivo (261MZ8375) 
LOCATION:VHS im Stadtfenster;Raum221, Steinsche Gasse 26, 47051 Duisburg
END:VEVENT
END:VCALENDAR