BEGIN:VCALENDAR
PRODID:http://www.kufer.de/kuferweb / DE
VERSION:2.0
METHOD:PUBLISH
CALSCALE:GREGORIAN
X-WR-TIMEZONE:Europe/Berlin
BEGIN:VTIMEZONE
TZID:Europe/Berlin
X-LIC-LOCATION:Europe/Berlin
BEGIN:DAYLIGHT
TZOFFSETFROM:+0100
TZOFFSETTO:+0200
TZNAME:CEST
DTSTART;TZID=Europe/Berlin:19700329T020000
RRULE:FREQ=YEARLY;INTERVAL=1;BYDAY=-1SU;BYMONTH=3
END:DAYLIGHT
BEGIN:STANDARD
TZOFFSETFROM:+0200
TZOFFSETTO:+0100
TZNAME:CET
DTSTART;TZID=Europe/Berlin:19701025T030000
RRULE:FREQ=YEARLY;INTERVAL=1;BYDAY=-1SU;BYMONTH=10
END:STANDARD
END:VTIMEZONE
BEGIN:VEVENT
DTSTAMP:20260425T205039
DTSTART;TZID=Europe/Berlin:20260212T180000
DTEND;TZID=Europe/Berlin:20260212T193000
UID:261MZ8339-20260212T180000@VHSDUISBURG
SUMMARY:Spanisch - A1 - Con gusto Nuevo A1 - ab Lektion 10 (261MZ8339) 
LOCATION:VHS im Stadtfenster;Raum415, Steinsche Gasse 26, 47051 Duisburg
END:VEVENT
BEGIN:VEVENT
DTSTAMP:20260425T205039
DTSTART;TZID=Europe/Berlin:20260219T180000
DTEND;TZID=Europe/Berlin:20260219T193000
UID:261MZ8339-20260219T180000@VHSDUISBURG
SUMMARY:Spanisch - A1 - Con gusto Nuevo A1 - ab Lektion 10 (261MZ8339) 
LOCATION:VHS im Stadtfenster;Raum415, Steinsche Gasse 26, 47051 Duisburg
END:VEVENT
BEGIN:VEVENT
DTSTAMP:20260425T205039
DTSTART;TZID=Europe/Berlin:20260226T180000
DTEND;TZID=Europe/Berlin:20260226T193000
UID:261MZ8339-20260226T180000@VHSDUISBURG
SUMMARY:Spanisch - A1 - Con gusto Nuevo A1 - ab Lektion 10 (261MZ8339) 
LOCATION:VHS im Stadtfenster;Raum415, Steinsche Gasse 26, 47051 Duisburg
END:VEVENT
BEGIN:VEVENT
DTSTAMP:20260425T205039
DTSTART;TZID=Europe/Berlin:20260305T180000
DTEND;TZID=Europe/Berlin:20260305T193000
UID:261MZ8339-20260305T180000@VHSDUISBURG
SUMMARY:Spanisch - A1 - Con gusto Nuevo A1 - ab Lektion 10 (261MZ8339) 
LOCATION:VHS im Stadtfenster;Raum415, Steinsche Gasse 26, 47051 Duisburg
END:VEVENT
BEGIN:VEVENT
DTSTAMP:20260425T205039
DTSTART;TZID=Europe/Berlin:20260312T180000
DTEND;TZID=Europe/Berlin:20260312T193000
UID:261MZ8339-20260312T180000@VHSDUISBURG
SUMMARY:Spanisch - A1 - Con gusto Nuevo A1 - ab Lektion 10 (261MZ8339) 
LOCATION:VHS im Stadtfenster;Raum415, Steinsche Gasse 26, 47051 Duisburg
END:VEVENT
BEGIN:VEVENT
DTSTAMP:20260425T205039
DTSTART;TZID=Europe/Berlin:20260319T180000
DTEND;TZID=Europe/Berlin:20260319T193000
UID:261MZ8339-20260319T180000@VHSDUISBURG
SUMMARY:Spanisch - A1 - Con gusto Nuevo A1 - ab Lektion 10 (261MZ8339) 
LOCATION:VHS im Stadtfenster;Raum415, Steinsche Gasse 26, 47051 Duisburg
END:VEVENT
BEGIN:VEVENT
DTSTAMP:20260425T205039
DTSTART;TZID=Europe/Berlin:20260326T180000
DTEND;TZID=Europe/Berlin:20260326T193000
UID:261MZ8339-20260326T180000@VHSDUISBURG
SUMMARY:Spanisch - A1 - Con gusto Nuevo A1 - ab Lektion 10 (261MZ8339) 
LOCATION:VHS im Stadtfenster;Raum415, Steinsche Gasse 26, 47051 Duisburg
END:VEVENT
BEGIN:VEVENT
DTSTAMP:20260425T205039
DTSTART;TZID=Europe/Berlin:20260416T180000
DTEND;TZID=Europe/Berlin:20260416T193000
UID:261MZ8339-20260416T180000@VHSDUISBURG
SUMMARY:Spanisch - A1 - Con gusto Nuevo A1 - ab Lektion 10 (261MZ8339) 
LOCATION:VHS im Stadtfenster;Raum415, Steinsche Gasse 26, 47051 Duisburg
END:VEVENT
BEGIN:VEVENT
DTSTAMP:20260425T205039
DTSTART;TZID=Europe/Berlin:20260423T180000
DTEND;TZID=Europe/Berlin:20260423T193000
UID:261MZ8339-20260423T180000@VHSDUISBURG
SUMMARY:Spanisch - A1 - Con gusto Nuevo A1 - ab Lektion 10 (261MZ8339) 
LOCATION:VHS im Stadtfenster;Raum217, Steinsche Gasse 26, 47051 Duisburg
END:VEVENT
BEGIN:VEVENT
DTSTAMP:20260425T205039
DTSTART;TZID=Europe/Berlin:20260430T180000
DTEND;TZID=Europe/Berlin:20260430T193000
UID:261MZ8339-20260430T180000@VHSDUISBURG
SUMMARY:Spanisch - A1 - Con gusto Nuevo A1 - ab Lektion 10 (261MZ8339) 
LOCATION:VHS im Stadtfenster;Raum415, Steinsche Gasse 26, 47051 Duisburg
END:VEVENT
END:VCALENDAR