BEGIN:VCALENDAR
PRODID:http://www.kufer.de/kuferweb / DE
VERSION:2.0
METHOD:PUBLISH
CALSCALE:GREGORIAN
X-WR-TIMEZONE:Europe/Berlin
BEGIN:VTIMEZONE
TZID:Europe/Berlin
X-LIC-LOCATION:Europe/Berlin
BEGIN:DAYLIGHT
TZOFFSETFROM:+0100
TZOFFSETTO:+0200
TZNAME:CEST
DTSTART;TZID=Europe/Berlin:19700329T020000
RRULE:FREQ=YEARLY;INTERVAL=1;BYDAY=-1SU;BYMONTH=3
END:DAYLIGHT
BEGIN:STANDARD
TZOFFSETFROM:+0200
TZOFFSETTO:+0100
TZNAME:CET
DTSTART;TZID=Europe/Berlin:19701025T030000
RRULE:FREQ=YEARLY;INTERVAL=1;BYDAY=-1SU;BYMONTH=10
END:STANDARD
END:VTIMEZONE
BEGIN:VEVENT
DTSTAMP:20260421T135936
DTSTART;TZID=Europe/Berlin:20260602T130000
DTEND;TZID=Europe/Berlin:20260602T143000
UID:261MZ7607-20260602T130000@VHSDUISBURG
SUMMARY:English Spotlight: Grammatik B1 (Lektion 1-6) (261MZ7607) 
LOCATION:VHS im Stadtfenster;Raum217, Steinsche Gasse 26, 47051 Duisburg
END:VEVENT
BEGIN:VEVENT
DTSTAMP:20260421T135936
DTSTART;TZID=Europe/Berlin:20260609T130000
DTEND;TZID=Europe/Berlin:20260609T143000
UID:261MZ7607-20260609T130000@VHSDUISBURG
SUMMARY:English Spotlight: Grammatik B1 (Lektion 1-6) (261MZ7607) 
LOCATION:VHS im Stadtfenster;Raum217, Steinsche Gasse 26, 47051 Duisburg
END:VEVENT
BEGIN:VEVENT
DTSTAMP:20260421T135936
DTSTART;TZID=Europe/Berlin:20260616T130000
DTEND;TZID=Europe/Berlin:20260616T143000
UID:261MZ7607-20260616T130000@VHSDUISBURG
SUMMARY:English Spotlight: Grammatik B1 (Lektion 1-6) (261MZ7607) 
LOCATION:VHS im Stadtfenster;Raum217, Steinsche Gasse 26, 47051 Duisburg
END:VEVENT
BEGIN:VEVENT
DTSTAMP:20260421T135936
DTSTART;TZID=Europe/Berlin:20260623T130000
DTEND;TZID=Europe/Berlin:20260623T143000
UID:261MZ7607-20260623T130000@VHSDUISBURG
SUMMARY:English Spotlight: Grammatik B1 (Lektion 1-6) (261MZ7607) 
LOCATION:VHS im Stadtfenster;Raum217, Steinsche Gasse 26, 47051 Duisburg
END:VEVENT
BEGIN:VEVENT
DTSTAMP:20260421T135936
DTSTART;TZID=Europe/Berlin:20260630T130000
DTEND;TZID=Europe/Berlin:20260630T143000
UID:261MZ7607-20260630T130000@VHSDUISBURG
SUMMARY:English Spotlight: Grammatik B1 (Lektion 1-6) (261MZ7607) 
LOCATION:VHS im Stadtfenster;Raum217, Steinsche Gasse 26, 47051 Duisburg
END:VEVENT
BEGIN:VEVENT
DTSTAMP:20260421T135936
DTSTART;TZID=Europe/Berlin:20260707T130000
DTEND;TZID=Europe/Berlin:20260707T143000
UID:261MZ7607-20260707T130000@VHSDUISBURG
SUMMARY:English Spotlight: Grammatik B1 (Lektion 1-6) (261MZ7607) 
LOCATION:VHS im Stadtfenster;Raum217, Steinsche Gasse 26, 47051 Duisburg
END:VEVENT
END:VCALENDAR