BEGIN:VCALENDAR
PRODID:http://www.kufer.de/kuferweb / DE
VERSION:2.0
METHOD:PUBLISH
CALSCALE:GREGORIAN
X-WR-TIMEZONE:Europe/Berlin
BEGIN:VTIMEZONE
TZID:Europe/Berlin
X-LIC-LOCATION:Europe/Berlin
BEGIN:DAYLIGHT
TZOFFSETFROM:+0100
TZOFFSETTO:+0200
TZNAME:CEST
DTSTART;TZID=Europe/Berlin:19700329T020000
RRULE:FREQ=YEARLY;INTERVAL=1;BYDAY=-1SU;BYMONTH=3
END:DAYLIGHT
BEGIN:STANDARD
TZOFFSETFROM:+0200
TZOFFSETTO:+0100
TZNAME:CET
DTSTART;TZID=Europe/Berlin:19701025T030000
RRULE:FREQ=YEARLY;INTERVAL=1;BYDAY=-1SU;BYMONTH=10
END:STANDARD
END:VTIMEZONE
BEGIN:VEVENT
DTSTAMP:20260425T204926
DTSTART;TZID=Europe/Berlin:20260214T100000
DTEND;TZID=Europe/Berlin:20260214T113000
UID:261MZ7510-20260214T100000@VHSDUISBURG
SUMMARY:Englisch - Talk am Samstag - B1/ B2 - Conversation (261MZ7510) 
LOCATION:VHS im Stadtfenster;Raum415, Steinsche Gasse 26, 47051 Duisburg
END:VEVENT
BEGIN:VEVENT
DTSTAMP:20260425T204926
DTSTART;TZID=Europe/Berlin:20260228T100000
DTEND;TZID=Europe/Berlin:20260228T113000
UID:261MZ7510-20260228T100000@VHSDUISBURG
SUMMARY:Englisch - Talk am Samstag - B1/ B2 - Conversation (261MZ7510) 
LOCATION:VHS im Stadtfenster;Raum415, Steinsche Gasse 26, 47051 Duisburg
END:VEVENT
BEGIN:VEVENT
DTSTAMP:20260425T204926
DTSTART;TZID=Europe/Berlin:20260314T100000
DTEND;TZID=Europe/Berlin:20260314T113000
UID:261MZ7510-20260314T100000@VHSDUISBURG
SUMMARY:Englisch - Talk am Samstag - B1/ B2 - Conversation (261MZ7510) 
LOCATION:VHS im Stadtfenster;Raum415, Steinsche Gasse 26, 47051 Duisburg
END:VEVENT
BEGIN:VEVENT
DTSTAMP:20260425T204926
DTSTART;TZID=Europe/Berlin:20260328T100000
DTEND;TZID=Europe/Berlin:20260328T113000
UID:261MZ7510-20260328T100000@VHSDUISBURG
SUMMARY:Englisch - Talk am Samstag - B1/ B2 - Conversation (261MZ7510) 
LOCATION:VHS im Stadtfenster;Raum415, Steinsche Gasse 26, 47051 Duisburg
END:VEVENT
BEGIN:VEVENT
DTSTAMP:20260425T204926
DTSTART;TZID=Europe/Berlin:20260425T100000
DTEND;TZID=Europe/Berlin:20260425T113000
UID:261MZ7510-20260425T100000@VHSDUISBURG
SUMMARY:Englisch - Talk am Samstag - B1/ B2 - Conversation (261MZ7510) 
LOCATION:VHS im Stadtfenster;Raum415, Steinsche Gasse 26, 47051 Duisburg
END:VEVENT
BEGIN:VEVENT
DTSTAMP:20260425T204926
DTSTART;TZID=Europe/Berlin:20260509T100000
DTEND;TZID=Europe/Berlin:20260509T113000
UID:261MZ7510-20260509T100000@VHSDUISBURG
SUMMARY:Englisch - Talk am Samstag - B1/ B2 - Conversation (261MZ7510) 
LOCATION:VHS im Stadtfenster;Raum415, Steinsche Gasse 26, 47051 Duisburg
END:VEVENT
END:VCALENDAR