BEGIN:VCALENDAR
PRODID:http://www.kufer.de/kuferweb / DE
VERSION:2.0
METHOD:PUBLISH
CALSCALE:GREGORIAN
X-WR-TIMEZONE:Europe/Berlin
BEGIN:VTIMEZONE
TZID:Europe/Berlin
X-LIC-LOCATION:Europe/Berlin
BEGIN:DAYLIGHT
TZOFFSETFROM:+0100
TZOFFSETTO:+0200
TZNAME:CEST
DTSTART;TZID=Europe/Berlin:19700329T020000
RRULE:FREQ=YEARLY;INTERVAL=1;BYDAY=-1SU;BYMONTH=3
END:DAYLIGHT
BEGIN:STANDARD
TZOFFSETFROM:+0200
TZOFFSETTO:+0100
TZNAME:CET
DTSTART;TZID=Europe/Berlin:19701025T030000
RRULE:FREQ=YEARLY;INTERVAL=1;BYDAY=-1SU;BYMONTH=10
END:STANDARD
END:VTIMEZONE
BEGIN:VEVENT
DTSTAMP:20260421T122611
DTSTART;TZID=Europe/Berlin:20260205T191500
DTEND;TZID=Europe/Berlin:20260205T204500
UID:261MZ6347-20260205T191500@VHSDUISBURG
SUMMARY:Rücken-Yoga (261MZ6347) 
LOCATION:VHS im Stadtfenster;Raum126, Steinsche Gasse 26, 47051 Duisburg
END:VEVENT
BEGIN:VEVENT
DTSTAMP:20260421T122611
DTSTART;TZID=Europe/Berlin:20260212T191500
DTEND;TZID=Europe/Berlin:20260212T204500
UID:261MZ6347-20260212T191500@VHSDUISBURG
SUMMARY:Rücken-Yoga (261MZ6347) 
LOCATION:VHS im Stadtfenster;Raum126, Steinsche Gasse 26, 47051 Duisburg
END:VEVENT
BEGIN:VEVENT
DTSTAMP:20260421T122611
DTSTART;TZID=Europe/Berlin:20260226T191500
DTEND;TZID=Europe/Berlin:20260226T204500
UID:261MZ6347-20260226T191500@VHSDUISBURG
SUMMARY:Rücken-Yoga (261MZ6347) 
LOCATION:VHS im Stadtfenster;Raum126, Steinsche Gasse 26, 47051 Duisburg
END:VEVENT
BEGIN:VEVENT
DTSTAMP:20260421T122611
DTSTART;TZID=Europe/Berlin:20260305T191500
DTEND;TZID=Europe/Berlin:20260305T204500
UID:261MZ6347-20260305T191500@VHSDUISBURG
SUMMARY:Rücken-Yoga (261MZ6347) 
LOCATION:VHS im Stadtfenster;Raum126, Steinsche Gasse 26, 47051 Duisburg
END:VEVENT
BEGIN:VEVENT
DTSTAMP:20260421T122611
DTSTART;TZID=Europe/Berlin:20260312T191500
DTEND;TZID=Europe/Berlin:20260312T204500
UID:261MZ6347-20260312T191500@VHSDUISBURG
SUMMARY:Rücken-Yoga (261MZ6347) 
LOCATION:VHS im Stadtfenster;Raum126, Steinsche Gasse 26, 47051 Duisburg
END:VEVENT
BEGIN:VEVENT
DTSTAMP:20260421T122611
DTSTART;TZID=Europe/Berlin:20260319T191500
DTEND;TZID=Europe/Berlin:20260319T204500
UID:261MZ6347-20260319T191500@VHSDUISBURG
SUMMARY:Rücken-Yoga (261MZ6347) 
LOCATION:VHS im Stadtfenster;Raum126, Steinsche Gasse 26, 47051 Duisburg
END:VEVENT
BEGIN:VEVENT
DTSTAMP:20260421T122611
DTSTART;TZID=Europe/Berlin:20260326T191500
DTEND;TZID=Europe/Berlin:20260326T204500
UID:261MZ6347-20260326T191500@VHSDUISBURG
SUMMARY:Rücken-Yoga (261MZ6347) 
LOCATION:VHS im Stadtfenster;Raum126, Steinsche Gasse 26, 47051 Duisburg
END:VEVENT
BEGIN:VEVENT
DTSTAMP:20260421T122611
DTSTART;TZID=Europe/Berlin:20260423T191500
DTEND;TZID=Europe/Berlin:20260423T204500
UID:261MZ6347-20260423T191500@VHSDUISBURG
SUMMARY:Rücken-Yoga (261MZ6347) 
LOCATION:VHS im Stadtfenster;Raum126, Steinsche Gasse 26, 47051 Duisburg
END:VEVENT
BEGIN:VEVENT
DTSTAMP:20260421T122611
DTSTART;TZID=Europe/Berlin:20260430T191500
DTEND;TZID=Europe/Berlin:20260430T204500
UID:261MZ6347-20260430T191500@VHSDUISBURG
SUMMARY:Rücken-Yoga (261MZ6347) 
LOCATION:VHS im Stadtfenster;Raum126, Steinsche Gasse 26, 47051 Duisburg
END:VEVENT
BEGIN:VEVENT
DTSTAMP:20260421T122611
DTSTART;TZID=Europe/Berlin:20260507T191500
DTEND;TZID=Europe/Berlin:20260507T204500
UID:261MZ6347-20260507T191500@VHSDUISBURG
SUMMARY:Rücken-Yoga (261MZ6347) 
LOCATION:VHS im Stadtfenster;Raum126, Steinsche Gasse 26, 47051 Duisburg
END:VEVENT
BEGIN:VEVENT
DTSTAMP:20260421T122611
DTSTART;TZID=Europe/Berlin:20260528T191500
DTEND;TZID=Europe/Berlin:20260528T204500
UID:261MZ6347-20260528T191500@VHSDUISBURG
DESCRIPTION:12.03.26 (*SU): NT für 21.05.2026
Kurskürzung wegen 9 TN auf 12 Kurstermine
SUMMARY:Rücken-Yoga (261MZ6347) 
LOCATION:VHS im Stadtfenster;Raum126, Steinsche Gasse 26, 47051 Duisburg
END:VEVENT
BEGIN:VEVENT
DTSTAMP:20260421T122611
DTSTART;TZID=Europe/Berlin:20260611T191500
DTEND;TZID=Europe/Berlin:20260611T204500
UID:261MZ6347-20260611T191500@VHSDUISBURG
DESCRIPTION:NT für 16.04.
SUMMARY:Rücken-Yoga (261MZ6347) 
LOCATION:VHS im Stadtfenster;Raum126, Steinsche Gasse 26, 47051 Duisburg
END:VEVENT
END:VCALENDAR