BEGIN:VCALENDAR
PRODID:http://www.kufer.de/kuferweb / DE
VERSION:2.0
METHOD:PUBLISH
CALSCALE:GREGORIAN
X-WR-TIMEZONE:Europe/Berlin
BEGIN:VTIMEZONE
TZID:Europe/Berlin
X-LIC-LOCATION:Europe/Berlin
BEGIN:DAYLIGHT
TZOFFSETFROM:+0100
TZOFFSETTO:+0200
TZNAME:CEST
DTSTART;TZID=Europe/Berlin:19700329T020000
RRULE:FREQ=YEARLY;INTERVAL=1;BYDAY=-1SU;BYMONTH=3
END:DAYLIGHT
BEGIN:STANDARD
TZOFFSETFROM:+0200
TZOFFSETTO:+0100
TZNAME:CET
DTSTART;TZID=Europe/Berlin:19701025T030000
RRULE:FREQ=YEARLY;INTERVAL=1;BYDAY=-1SU;BYMONTH=10
END:STANDARD
END:VTIMEZONE
BEGIN:VEVENT
DTSTAMP:20260421T135933
DTSTART;TZID=Europe/Berlin:20260205T200000
DTEND;TZID=Europe/Berlin:20260205T213000
UID:261MZ2573-20260205T200000@VHSDUISBURG
SUMMARY:Singen - Wollt' ich immer schon... Für Neulinge und Fortgeschrittene (261MZ2573) 
LOCATION:VHS im Stadtfenster;Raum121, Steinsche Gasse 26, 47051 Duisburg
END:VEVENT
BEGIN:VEVENT
DTSTAMP:20260421T135933
DTSTART;TZID=Europe/Berlin:20260212T200000
DTEND;TZID=Europe/Berlin:20260212T213000
UID:261MZ2573-20260212T200000@VHSDUISBURG
SUMMARY:Singen - Wollt' ich immer schon... Für Neulinge und Fortgeschrittene (261MZ2573) 
LOCATION:VHS im Stadtfenster;Raum121, Steinsche Gasse 26, 47051 Duisburg
END:VEVENT
BEGIN:VEVENT
DTSTAMP:20260421T135933
DTSTART;TZID=Europe/Berlin:20260219T200000
DTEND;TZID=Europe/Berlin:20260219T213000
UID:261MZ2573-20260219T200000@VHSDUISBURG
SUMMARY:Singen - Wollt' ich immer schon... Für Neulinge und Fortgeschrittene (261MZ2573) 
LOCATION:VHS im Stadtfenster;Raum121, Steinsche Gasse 26, 47051 Duisburg
END:VEVENT
BEGIN:VEVENT
DTSTAMP:20260421T135933
DTSTART;TZID=Europe/Berlin:20260226T200000
DTEND;TZID=Europe/Berlin:20260226T213000
UID:261MZ2573-20260226T200000@VHSDUISBURG
SUMMARY:Singen - Wollt' ich immer schon... Für Neulinge und Fortgeschrittene (261MZ2573) 
LOCATION:VHS im Stadtfenster;Raum121, Steinsche Gasse 26, 47051 Duisburg
END:VEVENT
BEGIN:VEVENT
DTSTAMP:20260421T135933
DTSTART;TZID=Europe/Berlin:20260305T200000
DTEND;TZID=Europe/Berlin:20260305T213000
UID:261MZ2573-20260305T200000@VHSDUISBURG
SUMMARY:Singen - Wollt' ich immer schon... Für Neulinge und Fortgeschrittene (261MZ2573) 
LOCATION:VHS im Stadtfenster;Raum121, Steinsche Gasse 26, 47051 Duisburg
END:VEVENT
BEGIN:VEVENT
DTSTAMP:20260421T135933
DTSTART;TZID=Europe/Berlin:20260312T200000
DTEND;TZID=Europe/Berlin:20260312T213000
UID:261MZ2573-20260312T200000@VHSDUISBURG
SUMMARY:Singen - Wollt' ich immer schon... Für Neulinge und Fortgeschrittene (261MZ2573) 
LOCATION:VHS im Stadtfenster;Raum121, Steinsche Gasse 26, 47051 Duisburg
END:VEVENT
BEGIN:VEVENT
DTSTAMP:20260421T135933
DTSTART;TZID=Europe/Berlin:20260319T200000
DTEND;TZID=Europe/Berlin:20260319T213000
UID:261MZ2573-20260319T200000@VHSDUISBURG
SUMMARY:Singen - Wollt' ich immer schon... Für Neulinge und Fortgeschrittene (261MZ2573) 
LOCATION:VHS im Stadtfenster;Raum121, Steinsche Gasse 26, 47051 Duisburg
END:VEVENT
BEGIN:VEVENT
DTSTAMP:20260421T135933
DTSTART;TZID=Europe/Berlin:20260326T200000
DTEND;TZID=Europe/Berlin:20260326T213000
UID:261MZ2573-20260326T200000@VHSDUISBURG
SUMMARY:Singen - Wollt' ich immer schon... Für Neulinge und Fortgeschrittene (261MZ2573) 
LOCATION:VHS im Stadtfenster;Raum121, Steinsche Gasse 26, 47051 Duisburg
END:VEVENT
BEGIN:VEVENT
DTSTAMP:20260421T135933
DTSTART;TZID=Europe/Berlin:20260416T200000
DTEND;TZID=Europe/Berlin:20260416T213000
UID:261MZ2573-20260416T200000@VHSDUISBURG
SUMMARY:Singen - Wollt' ich immer schon... Für Neulinge und Fortgeschrittene (261MZ2573) 
LOCATION:VHS im Stadtfenster;Raum121, Steinsche Gasse 26, 47051 Duisburg
END:VEVENT
BEGIN:VEVENT
DTSTAMP:20260421T135933
DTSTART;TZID=Europe/Berlin:20260423T200000
DTEND;TZID=Europe/Berlin:20260423T213000
UID:261MZ2573-20260423T200000@VHSDUISBURG
SUMMARY:Singen - Wollt' ich immer schon... Für Neulinge und Fortgeschrittene (261MZ2573) 
LOCATION:VHS im Stadtfenster;Raum121, Steinsche Gasse 26, 47051 Duisburg
END:VEVENT
BEGIN:VEVENT
DTSTAMP:20260421T135933
DTSTART;TZID=Europe/Berlin:20260430T200000
DTEND;TZID=Europe/Berlin:20260430T213000
UID:261MZ2573-20260430T200000@VHSDUISBURG
SUMMARY:Singen - Wollt' ich immer schon... Für Neulinge und Fortgeschrittene (261MZ2573) 
LOCATION:VHS im Stadtfenster;Raum121, Steinsche Gasse 26, 47051 Duisburg
END:VEVENT
BEGIN:VEVENT
DTSTAMP:20260421T135933
DTSTART;TZID=Europe/Berlin:20260507T200000
DTEND;TZID=Europe/Berlin:20260507T213000
UID:261MZ2573-20260507T200000@VHSDUISBURG
SUMMARY:Singen - Wollt' ich immer schon... Für Neulinge und Fortgeschrittene (261MZ2573) 
LOCATION:VHS im Stadtfenster;Raum121, Steinsche Gasse 26, 47051 Duisburg
END:VEVENT
BEGIN:VEVENT
DTSTAMP:20260421T135933
DTSTART;TZID=Europe/Berlin:20260521T200000
DTEND;TZID=Europe/Berlin:20260521T213000
UID:261MZ2573-20260521T200000@VHSDUISBURG
SUMMARY:Singen - Wollt' ich immer schon... Für Neulinge und Fortgeschrittene (261MZ2573) 
LOCATION:VHS im Stadtfenster;Raum121, Steinsche Gasse 26, 47051 Duisburg
END:VEVENT
END:VCALENDAR