BEGIN:VCALENDAR
PRODID:http://www.kufer.de/kuferweb / DE
VERSION:2.0
METHOD:PUBLISH
CALSCALE:GREGORIAN
X-WR-TIMEZONE:Europe/Berlin
BEGIN:VTIMEZONE
TZID:Europe/Berlin
X-LIC-LOCATION:Europe/Berlin
BEGIN:DAYLIGHT
TZOFFSETFROM:+0100
TZOFFSETTO:+0200
TZNAME:CEST
DTSTART;TZID=Europe/Berlin:19700329T020000
RRULE:FREQ=YEARLY;INTERVAL=1;BYDAY=-1SU;BYMONTH=3
END:DAYLIGHT
BEGIN:STANDARD
TZOFFSETFROM:+0200
TZOFFSETTO:+0100
TZNAME:CET
DTSTART;TZID=Europe/Berlin:19701025T030000
RRULE:FREQ=YEARLY;INTERVAL=1;BYDAY=-1SU;BYMONTH=10
END:STANDARD
END:VTIMEZONE
BEGIN:VEVENT
DTSTAMP:20260421T135938
DTSTART;TZID=Europe/Berlin:20260202T161500
DTEND;TZID=Europe/Berlin:20260202T174500
UID:261MR6325-20260202T161500@VHSDUISBURG
SUMMARY:Hatha Yoga - Für Neulinge und Fortgeschrittene (261MR6325) 
LOCATION:VHS im Stadtfenster;Raum126, Steinsche Gasse 26, 47051 Duisburg
END:VEVENT
BEGIN:VEVENT
DTSTAMP:20260421T135938
DTSTART;TZID=Europe/Berlin:20260209T161500
DTEND;TZID=Europe/Berlin:20260209T174500
UID:261MR6325-20260209T161500@VHSDUISBURG
SUMMARY:Hatha Yoga - Für Neulinge und Fortgeschrittene (261MR6325) 
LOCATION:VHS im Stadtfenster;Raum126, Steinsche Gasse 26, 47051 Duisburg
END:VEVENT
BEGIN:VEVENT
DTSTAMP:20260421T135938
DTSTART;TZID=Europe/Berlin:20260302T161500
DTEND;TZID=Europe/Berlin:20260302T174500
UID:261MR6325-20260302T161500@VHSDUISBURG
SUMMARY:Hatha Yoga - Für Neulinge und Fortgeschrittene (261MR6325) 
LOCATION:VHS im Stadtfenster;Raum126, Steinsche Gasse 26, 47051 Duisburg
END:VEVENT
BEGIN:VEVENT
DTSTAMP:20260421T135938
DTSTART;TZID=Europe/Berlin:20260309T161500
DTEND;TZID=Europe/Berlin:20260309T174500
UID:261MR6325-20260309T161500@VHSDUISBURG
SUMMARY:Hatha Yoga - Für Neulinge und Fortgeschrittene (261MR6325) 
LOCATION:VHS im Stadtfenster;Raum126, Steinsche Gasse 26, 47051 Duisburg
END:VEVENT
BEGIN:VEVENT
DTSTAMP:20260421T135938
DTSTART;TZID=Europe/Berlin:20260316T161500
DTEND;TZID=Europe/Berlin:20260316T174500
UID:261MR6325-20260316T161500@VHSDUISBURG
SUMMARY:Hatha Yoga - Für Neulinge und Fortgeschrittene (261MR6325) 
LOCATION:VHS im Stadtfenster;Raum126, Steinsche Gasse 26, 47051 Duisburg
END:VEVENT
BEGIN:VEVENT
DTSTAMP:20260421T135938
DTSTART;TZID=Europe/Berlin:20260323T161500
DTEND;TZID=Europe/Berlin:20260323T174500
UID:261MR6325-20260323T161500@VHSDUISBURG
SUMMARY:Hatha Yoga - Für Neulinge und Fortgeschrittene (261MR6325) 
LOCATION:VHS im Stadtfenster;Raum126, Steinsche Gasse 26, 47051 Duisburg
END:VEVENT
BEGIN:VEVENT
DTSTAMP:20260421T135938
DTSTART;TZID=Europe/Berlin:20260413T161500
DTEND;TZID=Europe/Berlin:20260413T174500
UID:261MR6325-20260413T161500@VHSDUISBURG
SUMMARY:Hatha Yoga - Für Neulinge und Fortgeschrittene (261MR6325) 
LOCATION:VHS im Stadtfenster;Raum126, Steinsche Gasse 26, 47051 Duisburg
END:VEVENT
BEGIN:VEVENT
DTSTAMP:20260421T135938
DTSTART;TZID=Europe/Berlin:20260420T161500
DTEND;TZID=Europe/Berlin:20260420T174500
UID:261MR6325-20260420T161500@VHSDUISBURG
SUMMARY:Hatha Yoga - Für Neulinge und Fortgeschrittene (261MR6325) 
LOCATION:VHS im Stadtfenster;Raum126, Steinsche Gasse 26, 47051 Duisburg
END:VEVENT
BEGIN:VEVENT
DTSTAMP:20260421T135938
DTSTART;TZID=Europe/Berlin:20260427T161500
DTEND;TZID=Europe/Berlin:20260427T174500
UID:261MR6325-20260427T161500@VHSDUISBURG
SUMMARY:Hatha Yoga - Für Neulinge und Fortgeschrittene (261MR6325) 
LOCATION:VHS im Stadtfenster;Raum126, Steinsche Gasse 26, 47051 Duisburg
END:VEVENT
BEGIN:VEVENT
DTSTAMP:20260421T135938
DTSTART;TZID=Europe/Berlin:20260504T161500
DTEND;TZID=Europe/Berlin:20260504T174500
UID:261MR6325-20260504T161500@VHSDUISBURG
SUMMARY:Hatha Yoga - Für Neulinge und Fortgeschrittene (261MR6325) 
LOCATION:VHS im Stadtfenster;Raum126, Steinsche Gasse 26, 47051 Duisburg
END:VEVENT
BEGIN:VEVENT
DTSTAMP:20260421T135938
DTSTART;TZID=Europe/Berlin:20260511T161500
DTEND;TZID=Europe/Berlin:20260511T174500
UID:261MR6325-20260511T161500@VHSDUISBURG
SUMMARY:Hatha Yoga - Für Neulinge und Fortgeschrittene (261MR6325) 
LOCATION:VHS im Stadtfenster;Raum126, Steinsche Gasse 26, 47051 Duisburg
END:VEVENT
BEGIN:VEVENT
DTSTAMP:20260421T135938
DTSTART;TZID=Europe/Berlin:20260518T161500
DTEND;TZID=Europe/Berlin:20260518T174500
UID:261MR6325-20260518T161500@VHSDUISBURG
SUMMARY:Hatha Yoga - Für Neulinge und Fortgeschrittene (261MR6325) 
LOCATION:VHS im Stadtfenster;Raum126, Steinsche Gasse 26, 47051 Duisburg
END:VEVENT
BEGIN:VEVENT
DTSTAMP:20260421T135938
DTSTART;TZID=Europe/Berlin:20260601T161500
DTEND;TZID=Europe/Berlin:20260601T174500
UID:261MR6325-20260601T161500@VHSDUISBURG
DESCRIPTION:noch besteht eine Kollision (mit dem Kurs 261MZ6579); 23.02.26 (*FG)
SUMMARY:Hatha Yoga - Für Neulinge und Fortgeschrittene (261MR6325) 
LOCATION:VHS im Stadtfenster;Raum126, Steinsche Gasse 26, 47051 Duisburg
END:VEVENT
END:VCALENDAR